BEGIN:VCALENDAR
VERSION:2.0
PRODID:-//Shell Star Studio - ECPv6.15.20//NONSGML v1.0//EN
CALSCALE:GREGORIAN
METHOD:PUBLISH
X-WR-CALNAME:Shell Star Studio
X-ORIGINAL-URL:https://shellstarstudio.com
X-WR-CALDESC:Events for Shell Star Studio
REFRESH-INTERVAL;VALUE=DURATION:PT1H
X-Robots-Tag:noindex
X-PUBLISHED-TTL:PT1H
BEGIN:VTIMEZONE
TZID:America/New_York
BEGIN:DAYLIGHT
TZOFFSETFROM:-0500
TZOFFSETTO:-0400
TZNAME:EDT
DTSTART:20200308T070000
END:DAYLIGHT
BEGIN:STANDARD
TZOFFSETFROM:-0400
TZOFFSETTO:-0500
TZNAME:EST
DTSTART:20201101T060000
END:STANDARD
BEGIN:DAYLIGHT
TZOFFSETFROM:-0500
TZOFFSETTO:-0400
TZNAME:EDT
DTSTART:20210314T070000
END:DAYLIGHT
BEGIN:STANDARD
TZOFFSETFROM:-0400
TZOFFSETTO:-0500
TZNAME:EST
DTSTART:20211107T060000
END:STANDARD
BEGIN:DAYLIGHT
TZOFFSETFROM:-0500
TZOFFSETTO:-0400
TZNAME:EDT
DTSTART:20220313T070000
END:DAYLIGHT
BEGIN:STANDARD
TZOFFSETFROM:-0400
TZOFFSETTO:-0500
TZNAME:EST
DTSTART:20221106T060000
END:STANDARD
BEGIN:DAYLIGHT
TZOFFSETFROM:-0500
TZOFFSETTO:-0400
TZNAME:EDT
DTSTART:20230312T070000
END:DAYLIGHT
BEGIN:STANDARD
TZOFFSETFROM:-0400
TZOFFSETTO:-0500
TZNAME:EST
DTSTART:20231105T060000
END:STANDARD
END:VTIMEZONE
BEGIN:VEVENT
DTSTART;TZID=America/New_York:20220501T130000
DTEND;TZID=America/New_York:20220501T143000
DTSTAMP:20260425T153713
CREATED:20220331T183717Z
LAST-MODIFIED:20220501T013157Z
UID:1493-1651410000-1651415400@shellstarstudio.com
SUMMARY:Opposite Cats - Kid's Paint and Snack in Marine Park on May 1
DESCRIPTION:Kids of all ages will love painting these opposite cats! One black\, one white\, one day\, one night; the opposite cats are always opposite\, but get along like the best friends that they are!  This kid friendly composition is fun and exciting\, while the lead artist offers tips and tricks for kids to master each step of the painting. \n  \nPainting best friends is more fun when you’re with your best friend!  Bring the kids and their friends to Marine Park (Stuart Street and Avenue T.) for a fun and creative outing that will impress your child with painting skills they didn’t even know they had! Kids will enjoy a snack and a juice box while they paint\, play\, and learn new techniques that really make their paintings stand out from the crowd. \nRain Date: May 15th from 1:00 – 2:30 PM in the same location
URL:https://shellstarstudio.com/event/opposite-cats-kids-paint-and-snack-in-marine-park-on-may-1/
LOCATION:Marine Park @Stuart Street  between Ave. S & Ave. T\, 2000-3000 Stuart Street\, Brooklyn\, NY\, 11229\, United States
CATEGORIES:Kid's Paint & Snack
ATTACH;FMTTYPE=image/jpeg:https://shellstarstudio.com/wp-content/uploads/2022/03/IMG_9119.jpg
ORGANIZER;CN="Michelle":MAILTO:shellstar1000@gmail.com
END:VEVENT
BEGIN:VEVENT
DTSTART;TZID=America/New_York:20210926T130000
DTEND;TZID=America/New_York:20210926T150000
DTSTAMP:20260425T153713
CREATED:20210906T144453Z
LAST-MODIFIED:20210925T152134Z
UID:1382-1632661200-1632668400@shellstarstudio.com
SUMMARY:⚠️ EVENT CANCELLED ⚠️ Kimby's City: Kid's Paint and Snack in Marine Park
DESCRIPTION:⚠️ EVENT CANCELLED ⚠️ \n⚠️ DO NOT ATTEND ⚠️ \nKid’s design their own cityscape silhouette at sunset\, learning many acrylic painting techniques along the way.  From splatter stars to the blended sky at sunset\, simple steps are described to walk your child through this composition to realize their unique painting goals.  Children enjoy the creative process\, learning useful skills as they take ownership over their cityscape painting by making unique choices as they build their own design for the city that they create.   $25 provides your child with all materials necessary to join in the fun\, and take home their own masterpiece\, a 9×12 inch cityscape  at sunset acrylic on canvas painting to highlight their artistic talents. \n 
URL:https://shellstarstudio.com/event/kimbys-city-kids-paint-and-snack-in-marine-park/
LOCATION:Marine Park @Stuart Street  between Ave. S & Ave. T\, 2000-3000 Stuart Street\, Brooklyn\, NY\, 11229\, United States
CATEGORIES:Kid's Paint & Snack
ATTACH;FMTTYPE=image/jpeg:https://shellstarstudio.com/wp-content/uploads/2021/03/IMG_4300.jpg
ORGANIZER;CN="Michelle":MAILTO:shellstar1000@gmail.com
END:VEVENT
BEGIN:VEVENT
DTSTART;TZID=America/New_York:20210807T140000
DTEND;TZID=America/New_York:20210807T160000
DTSTAMP:20260425T153713
CREATED:20210510T185735Z
LAST-MODIFIED:20210621T154612Z
UID:1151-1628344800-1628352000@shellstarstudio.com
SUMMARY:Under the Sea: Kid's Paint & Snack in Marine Park
DESCRIPTION:Under the sea lives a pair of fantastic friends.  Our graceful mermaid and her adventurous fish friend find fun and excitement swimming through the deep blue sea.  So many fun techniques are part of this exciting composition. Children will learn to blend\, dab and mix colors as they enjoy creating\, snacking\, and socializing while painting this ocean themed artwork.  This vibrant painting will inspire your young artists\, and small\, simple steps make it easy for them to succeed in creating it. \nRain Date: August\, 14 from 2:00 PM – 4:00 PM
URL:https://shellstarstudio.com/event/under-the-sea-kids-paint-snack-in-marine-park/
LOCATION:Marine Park @Stuart Street  between Ave. S & Ave. T\, 2000-3000 Stuart Street\, Brooklyn\, NY\, 11229\, United States
CATEGORIES:Kid's Paint & Snack
ATTACH;FMTTYPE=image/jpeg:https://shellstarstudio.com/wp-content/uploads/2021/05/image0-4.jpeg
ORGANIZER;CN="Michelle":MAILTO:shellstar1000@gmail.com
END:VEVENT
BEGIN:VEVENT
DTSTART;TZID=America/New_York:20210718T140000
DTEND;TZID=America/New_York:20210718T160000
DTSTAMP:20260425T153713
CREATED:20210505T211014Z
LAST-MODIFIED:20210715T190702Z
UID:1141-1626616800-1626624000@shellstarstudio.com
SUMMARY:(canceled due to rain) - Kid's Paint and Snack in Prospect Park\, by The Well House: Scream for Ice Cream!
DESCRIPTION:****This event is cancelled due to rain**** \nPlease join us for the next events in Prospect Park on August 8th. \nI scream\, you scream\, we all scream for ice cream!  And that creamy treat screams “Summer!” Enjoy this summer with a creative spin\, celebrating one of the best parts of the season.  Kids can choose their favorite flavors to mount on top of their cone\, using their imagination to envision the perfect treat and learning painting techniques and skills to create what is in their mind’s eye. \nChildren from ages 6-12 (younger artists are welcome\, but may require adult assistance) will enjoy painting their perfect summer treat\, while eating their favorite summer treat (also ice cream) at this paint and snack kid’s event in Prospect Park by the Well House.  You’ll notice the tables with easels set up on The Peninsula overlooking the Prospect Park Lake across from The Well House.
URL:https://shellstarstudio.com/event/kids-paint-and-snack-in-prospect-park-by-the-well-house-scream-for-ice-cream/
LOCATION:Prospect Park @ The Well House\, 200 Well House Dr\, Brooklyn\, 11218\, United States
CATEGORIES:Kid's Paint & Snack
ATTACH;FMTTYPE=image/jpeg:https://shellstarstudio.com/wp-content/uploads/2021/04/ice-cream-cone.jpeg
ORGANIZER;CN="Michelle":MAILTO:shellstar1000@gmail.com
END:VEVENT
BEGIN:VEVENT
DTSTART;TZID=America/New_York:20210626T140000
DTEND;TZID=America/New_York:20210626T160000
DTSTAMP:20260425T153713
CREATED:20210430T181654Z
LAST-MODIFIED:20210626T152130Z
UID:1112-1624716000-1624723200@shellstarstudio.com
SUMMARY:Scream for Ice Cream: Kid's Paint and Snack in Marine Park
DESCRIPTION:I scream\, you scream\, we all scream for ice cream!  And that creamy treat screams “Summer!” Start this summer off with a creative bang\, celebrating one of the best parts of the season.  Kids can choose their favorite flavors to mount on top of their cone\, using their imagination to envision the perfect treat and learning painting techniques and skills to create what is in their mind’s eye. \nChildren from ages 6-12 (younger artists are welcome\, but may require adult assistance) will enjoy painting their perfect summer treat\, while eating their favorite summer treat (also ice cream) at this paint and snack event in Marine Park. Enter the park at Stuart Street between Avenue S and Avenue T. \nRaindate: June 27th 2:00 PM – 4:00 PM
URL:https://shellstarstudio.com/event/scream-for-ice-cream-kids-paint-and-snack-in-marine-park/
LOCATION:Marine Park @Stuart Street  between Ave. S & Ave. T\, 2000-3000 Stuart Street\, Brooklyn\, NY\, 11229\, United States
CATEGORIES:Kid's Paint & Snack
ATTACH;FMTTYPE=image/jpeg:https://shellstarstudio.com/wp-content/uploads/2021/04/ice-cream-cone.jpeg
ORGANIZER;CN="Michelle":MAILTO:shellstar1000@gmail.com
END:VEVENT
BEGIN:VEVENT
DTSTART;TZID=America/New_York:20210606T130000
DTEND;TZID=America/New_York:20210606T150000
DTSTAMP:20260425T153713
CREATED:20210430T050325Z
LAST-MODIFIED:20210606T175205Z
UID:1104-1622984400-1622991600@shellstarstudio.com
SUMMARY:Kuwaii Pineapple: Kid's Paint & Snack in Prospect Park by The Well House
DESCRIPTION:****Tickets are $25 at the event**** \nEvents ticketing is down at the moment\, but tickets will be available at the event for $25 via cash\, PayPal\, Venmo\, or Zelle. Thank you for your patience while we fix this issue. \nEveryones favorite fruit just got a lot cuter!  This fun and friendly pineapple becomes easy to paint when kids follow the lead artist.  An entertaining artist provides simple instructions to go along with an outlined canvas to guide young artists to a unique and successful painting. Children learn basic painting techniques for this composition that will allow them to use these skills in all their future artworks. \nChildren are provided everything they need to create this adorable pineapple on a 9×12 canvas\, and take pride in displaying their results.  Guests can enjoy a snack and a juice box while they create their masterpieces. \nRain Date: June 13th from 1:00 PM – 3:00 PM \n 
URL:https://shellstarstudio.com/event/kuwaii-pineapple-kids-paint-snack-in-prospect-park-by-the-well-house/
LOCATION:prospect park well house\, 200 Well House Dr\, Brooklyn\, 11218\, United States
CATEGORIES:Kid's Paint & Snack
ATTACH;FMTTYPE=image/jpeg:https://shellstarstudio.com/wp-content/uploads/2021/04/image0-3.jpeg
ORGANIZER;CN="Michelle":MAILTO:shellstar1000@gmail.com
END:VEVENT
BEGIN:VEVENT
DTSTART;TZID=America/New_York:20210523T130000
DTEND;TZID=America/New_York:20210523T150000
DTSTAMP:20260425T153713
CREATED:20210429T191524Z
LAST-MODIFIED:20210518T210305Z
UID:1098-1621774800-1621782000@shellstarstudio.com
SUMMARY:Kuwaii Pineapple: Kid's Paint & Snack in Marine Park
DESCRIPTION:Everyones favorite fruit just got a lot cuter!  This fun and friendly pineapple becomes easy to paint when kids follow the lead artist.  An entertaining artist provides simple instructions to go along with an outlined canvas to guide young artists to a unique and successful painting. Children learn basic painting techniques for this composition that will allow them to use these skills in all their future artworks. \nChildren are provided everything they need to create this adorable pineapple on a 9×12 canvas\, and take pride in displaying their results.  Guests can enjoy a snack and a juice box while they create their masterpieces. \nRain Date June 5th from 1:00 PM – 3:00 PM \n 
URL:https://shellstarstudio.com/event/kuwaii-pineapple-kids-paint-snack-in-marine-park/
LOCATION:Marine Park @Stuart Street  between Ave. S & Ave. T\, 2000-3000 Stuart Street\, Brooklyn\, NY\, 11229\, United States
CATEGORIES:Kid's Paint & Snack
ATTACH;FMTTYPE=image/jpeg:https://shellstarstudio.com/wp-content/uploads/2021/04/image0-3.jpeg
ORGANIZER;CN="Michelle":MAILTO:shellstar1000@gmail.com
END:VEVENT
BEGIN:VEVENT
DTSTART;TZID=America/New_York:20210418T130000
DTEND;TZID=America/New_York:20210418T143000
DTSTAMP:20260425T153713
CREATED:20210405T183539Z
LAST-MODIFIED:20210405T190143Z
UID:925-1618750800-1618756200@shellstarstudio.com
SUMMARY:Kimby's City: Kid's Paint & Snack in Prospect Park
DESCRIPTION:Kid’s design their own cityscape silhouette at sunset\, learning many acrylic painting techniques along the way.  From splatter stars to the blended sky at sunset\, simple steps are described to walk your child through this composition to realize their unique painting goals.  Children enjoy the creative process\, learning useful skills as they take ownership over their cityscape painting by making unique choices as they build their own design for the city that they create.   $25 provides your child with all materials necessary to join in the fun\, and take home their own masterpiece\, a 9×12 inch cityscape  at sunset acrylic on canvas painting to highlight their artistic talents.
URL:https://shellstarstudio.com/event/kimbys-city-kids-paint-snack-in-prospect-park/
LOCATION:Prospect Park @ The Well House\, 200 Well House Dr\, Brooklyn\, 11218\, United States
CATEGORIES:Kid's Paint & Snack
ATTACH;FMTTYPE=image/jpeg:https://shellstarstudio.com/wp-content/uploads/2021/03/IMG_4300.jpg
ORGANIZER;CN="Michelle":MAILTO:shellstar1000@gmail.com
END:VEVENT
END:VCALENDAR